BEGIN:VCALENDAR
VERSION:2.0
PRODID:-//Helgas Stadtpalast - ECPv6.15.14//NONSGML v1.0//EN
CALSCALE:GREGORIAN
METHOD:PUBLISH
X-ORIGINAL-URL:https://www.helgas-stadtpalast.de
X-WR-CALDESC:Veranstaltungen für Helgas Stadtpalast
REFRESH-INTERVAL;VALUE=DURATION:PT1H
X-Robots-Tag:noindex
X-PUBLISHED-TTL:PT1H
BEGIN:VTIMEZONE
TZID:Europe/Berlin
BEGIN:DAYLIGHT
TZOFFSETFROM:+0100
TZOFFSETTO:+0200
TZNAME:CEST
DTSTART:20240331T010000
END:DAYLIGHT
BEGIN:STANDARD
TZOFFSETFROM:+0200
TZOFFSETTO:+0100
TZNAME:CET
DTSTART:20241027T010000
END:STANDARD
BEGIN:DAYLIGHT
TZOFFSETFROM:+0100
TZOFFSETTO:+0200
TZNAME:CEST
DTSTART:20250330T010000
END:DAYLIGHT
BEGIN:STANDARD
TZOFFSETFROM:+0200
TZOFFSETTO:+0100
TZNAME:CET
DTSTART:20251026T010000
END:STANDARD
BEGIN:DAYLIGHT
TZOFFSETFROM:+0100
TZOFFSETTO:+0200
TZNAME:CEST
DTSTART:20260329T010000
END:DAYLIGHT
BEGIN:STANDARD
TZOFFSETFROM:+0200
TZOFFSETTO:+0100
TZNAME:CET
DTSTART:20261025T010000
END:STANDARD
END:VTIMEZONE
BEGIN:VEVENT
DTSTART;VALUE=DATE:20250613
DTEND;VALUE=DATE:20250614
DTSTAMP:20260423T062130
CREATED:20250612T132620Z
LAST-MODIFIED:20250612T132620Z
UID:5961-1749772800-1749859199@www.helgas-stadtpalast.de
SUMMARY:Rager
DESCRIPTION:Es ist wieder soweit – nach zwei Jahren voller energiegeladener Nächte und unvergesslicher Momente geht es am Freitag\, den 13. Juni\, weiter! RAGER – das Event\, das Rostocks Clubszene erobert hat – startet das neue Jahr mit einem Knall. Seid dabei\, wenn wir die Tanzflächen im Helgas Stadtpalast zum Beben bringen! \nRAGER OVERVIEW: \n\nDatum: Freitag\, 13. Juni 2025\nLocation: Helgas Stadtpalast\, Rostock\nEinlass: 23:00 Uhr | Ab 18 Jahren (P18)\n\n\nGenres: Trap\, Hip-Hop\, Rage\, Drill – hier gibt’s keine halben Sachen!\n\nDiese DJs wissen genau\, wie man den Raum zum Kochen bringt – bereit für die besten Beats und die wildesten Vibes? \nTicket-Infos: \n\nAbendkasse: 13€ ab 23 Uhr\nLimited VVK-Tickets: Nur 10€ (Eintritt)\nSichert euch eure Tickets unter: ragerevents.de\n\nDas Community-Ticket ist eine spezielle Chance\, euch als Teil der RAGER-Familie zu zeigen und gleichzeitig einen kleinen Extra-Support zu leisten. Wir danken euch für den Support!
URL:https://www.helgas-stadtpalast.de/event/rager-2/
END:VEVENT
END:VCALENDAR