BEGIN:VCALENDAR
VERSION:2.0
PRODID:-//Helgas Stadtpalast - ECPv6.15.14//NONSGML v1.0//EN
CALSCALE:GREGORIAN
METHOD:PUBLISH
X-WR-CALNAME:Helgas Stadtpalast
X-ORIGINAL-URL:https://www.helgas-stadtpalast.de
X-WR-CALDESC:Veranstaltungen für Helgas Stadtpalast
REFRESH-INTERVAL;VALUE=DURATION:PT1H
X-Robots-Tag:noindex
X-PUBLISHED-TTL:PT1H
BEGIN:VTIMEZONE
TZID:Europe/Berlin
BEGIN:DAYLIGHT
TZOFFSETFROM:+0100
TZOFFSETTO:+0200
TZNAME:CEST
DTSTART:20250330T010000
END:DAYLIGHT
BEGIN:STANDARD
TZOFFSETFROM:+0200
TZOFFSETTO:+0100
TZNAME:CET
DTSTART:20251026T010000
END:STANDARD
BEGIN:DAYLIGHT
TZOFFSETFROM:+0100
TZOFFSETTO:+0200
TZNAME:CEST
DTSTART:20260329T010000
END:DAYLIGHT
BEGIN:STANDARD
TZOFFSETFROM:+0200
TZOFFSETTO:+0100
TZNAME:CET
DTSTART:20261025T010000
END:STANDARD
BEGIN:DAYLIGHT
TZOFFSETFROM:+0100
TZOFFSETTO:+0200
TZNAME:CEST
DTSTART:20270328T010000
END:DAYLIGHT
BEGIN:STANDARD
TZOFFSETFROM:+0200
TZOFFSETTO:+0100
TZNAME:CET
DTSTART:20271031T010000
END:STANDARD
END:VTIMEZONE
BEGIN:VEVENT
DTSTART;TZID=Europe/Berlin:20260422T190000
DTEND;TZID=Europe/Berlin:20260422T220000
DTSTAMP:20260422T160013
CREATED:20250820T081450Z
LAST-MODIFIED:20250820T081614Z
UID:6379-1776884400-1776895200@www.helgas-stadtpalast.de
SUMMARY:Luca Noel
DESCRIPTION:Nach zwei erfolgreichen und jeweils nahezu ausverkauften Tourneen sowie über 50 Millionen Streams startet LUCA NOEL 2026 erneut durch: Mit der Tour 2026 bringt der Musiker seine neue musikalische Vision auf zehn Bühnen in ganz Deutschland. \nLUCA NOEL ist kein Künstler\, der stehen bleibt. Seine Songs bewegen sich zwischen Indie und Pop\, zwischen Verletzlichkeit und Klarheit\, zwischen Reflexion und Aufbruch. Nach viralen Erfolgen wie „Fucked Up“ oder aktuell „tu was du nicht lassen kannst“\, zahlreichen Playlist-Platzierungen und gefeierten Live-Shows\, will er mit neuer Musik vor allem eins: seine Perspektive teilen. „Ich mache Musik\, weil ich nicht anders kann. Das ist mein Antrieb“\, so Luca. „Die Songs auf die Bühne zu bringen\, gibt mir die Möglichkeit\, ehrlich und direkt mit den Leuten in Kontakt zu treten. Keine Fassade\, kein Filter.“ \nDie Tour 2026 steht für einen weiteren Schritt in der künstlerischen Entwicklung des 24-Jährigen: Mehr Band\, mehr Emotion\, mehr Nähe – aber auch mehr Energie. \nLuca Noel\nDate: 22.04.2026\nEinlass: 19:00 Uhr\nBeginn: 20:00 Uhr \nTickets unter: Tickets Luca Noel \n 
URL:https://www.helgas-stadtpalast.de/event/luca-noel-2/
ATTACH;FMTTYPE=image/jpeg:https://www.helgas-stadtpalast.de/wp-content/uploads/2025/08/luca-noel-berlin-Kopie.jpg
END:VEVENT
END:VCALENDAR