BEGIN:VCALENDAR
VERSION:2.0
PRODID:-//Helgas Stadtpalast - ECPv6.15.14//NONSGML v1.0//EN
CALSCALE:GREGORIAN
METHOD:PUBLISH
X-WR-CALNAME:Helgas Stadtpalast
X-ORIGINAL-URL:https://www.helgas-stadtpalast.de
X-WR-CALDESC:Veranstaltungen für Helgas Stadtpalast
REFRESH-INTERVAL;VALUE=DURATION:PT1H
X-Robots-Tag:noindex
X-PUBLISHED-TTL:PT1H
BEGIN:VTIMEZONE
TZID:Europe/Berlin
BEGIN:DAYLIGHT
TZOFFSETFROM:+0100
TZOFFSETTO:+0200
TZNAME:CEST
DTSTART:20250330T010000
END:DAYLIGHT
BEGIN:STANDARD
TZOFFSETFROM:+0200
TZOFFSETTO:+0100
TZNAME:CET
DTSTART:20251026T010000
END:STANDARD
BEGIN:DAYLIGHT
TZOFFSETFROM:+0100
TZOFFSETTO:+0200
TZNAME:CEST
DTSTART:20260329T010000
END:DAYLIGHT
BEGIN:STANDARD
TZOFFSETFROM:+0200
TZOFFSETTO:+0100
TZNAME:CET
DTSTART:20261025T010000
END:STANDARD
BEGIN:DAYLIGHT
TZOFFSETFROM:+0100
TZOFFSETTO:+0200
TZNAME:CEST
DTSTART:20270328T010000
END:DAYLIGHT
BEGIN:STANDARD
TZOFFSETFROM:+0200
TZOFFSETTO:+0100
TZNAME:CET
DTSTART:20271031T010000
END:STANDARD
END:VTIMEZONE
BEGIN:VEVENT
DTSTART;TZID=Europe/Berlin:20260423T213000
DTEND;TZID=Europe/Berlin:20260424T050000
DTSTAMP:20260423T034003
CREATED:20260421T091810Z
LAST-MODIFIED:20260421T092011Z
UID:20860-1776979800-1777006800@www.helgas-stadtpalast.de
SUMMARY:WSF Einstandsparty
DESCRIPTION:Wir feiern den START ins Sommersemester und ihr seid mit dabei!! \nWann? 23. April 2026\nWo? Helgas Stadtpalast\nEinlass? 21:30 Uhr \nTickets? VVK – 6€ zzgl. Gebühren /Abendkasse – 9€ \nDavor? Flunkyball am Ulmencampus\nStart? 19 Uhr – ohne Anmeldung \nVVK Mensa Ulme: \n16./20./21. April\n12:30 Uhr – 13:30 Uhr  \nKommt vorbei und feiert mit dem SoFa\, POLDI\, FaLs und FARAT!!
URL:https://www.helgas-stadtpalast.de/event/wsf-einstandsparty/
ATTACH;FMTTYPE=image/png:https://www.helgas-stadtpalast.de/wp-content/uploads/2026/04/WSF.png
END:VEVENT
END:VCALENDAR