BEGIN:VCALENDAR
VERSION:2.0
PRODID:-//Helgas Stadtpalast - ECPv6.15.14//NONSGML v1.0//EN
CALSCALE:GREGORIAN
METHOD:PUBLISH
X-ORIGINAL-URL:https://www.helgas-stadtpalast.de
X-WR-CALDESC:Veranstaltungen für Helgas Stadtpalast
REFRESH-INTERVAL;VALUE=DURATION:PT1H
X-Robots-Tag:noindex
X-PUBLISHED-TTL:PT1H
BEGIN:VTIMEZONE
TZID:Europe/Berlin
BEGIN:DAYLIGHT
TZOFFSETFROM:+0100
TZOFFSETTO:+0200
TZNAME:CEST
DTSTART:20230326T010000
END:DAYLIGHT
BEGIN:STANDARD
TZOFFSETFROM:+0200
TZOFFSETTO:+0100
TZNAME:CET
DTSTART:20231029T010000
END:STANDARD
BEGIN:DAYLIGHT
TZOFFSETFROM:+0100
TZOFFSETTO:+0200
TZNAME:CEST
DTSTART:20240331T010000
END:DAYLIGHT
BEGIN:STANDARD
TZOFFSETFROM:+0200
TZOFFSETTO:+0100
TZNAME:CET
DTSTART:20241027T010000
END:STANDARD
BEGIN:DAYLIGHT
TZOFFSETFROM:+0100
TZOFFSETTO:+0200
TZNAME:CEST
DTSTART:20250330T010000
END:DAYLIGHT
BEGIN:STANDARD
TZOFFSETFROM:+0200
TZOFFSETTO:+0100
TZNAME:CET
DTSTART:20251026T010000
END:STANDARD
END:VTIMEZONE
BEGIN:VEVENT
DTSTART;VALUE=DATE:20241005
DTEND;VALUE=DATE:20241006
DTSTAMP:20260423T220758
CREATED:20240911T105214Z
LAST-MODIFIED:20240911T105214Z
UID:169-1728086400-1728172799@www.helgas-stadtpalast.de
SUMMARY:Rausch w/ Denise Schneider
DESCRIPTION:Denise Schneider entschied sich bewusst gegen einen Künstlernamen\, denn sie ist wie sie ist – authentisch! \nDie Liebe zur elektronischen Musik entdeckte Denise Schneider durch ihre Tätigkeit im Nachtleben. Durch die Betreuung der Künstler wurde ihre Neugierde auf das Große und Ganze geweckt. Als der Wunsch immer stärker wurde\, selbst am DJ-Pult zu stehen\, bestärkte sie schließlich auch ihr Mann\, der sich als Clubbetreiber und Veranstalter einen Namen gemacht hat. Quasi autodidaktisch brachte sich die Ulmerin das Auflegen vor über 10 Jahren bei. Seither bespielt sie Clubs und Festivals rund um den Globus. Wenn sie das DJ-Pult betritt\, erlebt das Auditorium eine DJane\, bei der jede Gestik und Mimik von ihrer Begeisterung für Melodic-Techno/Techno erzählt. Schon allein durch diese Körpersprache ruft Denise ein emotionales Sounderlebnis auf der Tanzfläche hervor. Jeder einzelne Track ihrer Sets setzt beim Publikum Endorphine frei\, nicht selten von frenetischem Beifall begleitet. Verständlich\, dass Denise Schneider ein gern gesehener Gast in angesagten Clubs sowie bei unzähligen großen Festivals ist.   \nDenise Schneider\n \nEmmrich & Völker\n \nPaulette
URL:https://www.helgas-stadtpalast.de/event/rausch-w-denise-schneider/
LOCATION:Helgas Stadtpalalst\, Am Vögenteich 19\, Rostock\, MV\, 18055\, Deutschland
ATTACH;FMTTYPE=image/jpeg:https://www.helgas-stadtpalast.de/wp-content/uploads/2024/09/DENISESCHNEIDER_INSTA.jpg
END:VEVENT
BEGIN:VEVENT
DTSTART;TZID=Europe/Berlin:20241009T190000
DTEND;TZID=Europe/Berlin:20241009T230000
DTSTAMP:20260423T220758
CREATED:20240908T085458Z
LAST-MODIFIED:20240908T085458Z
UID:38-1728500400-1728514800@www.helgas-stadtpalast.de
SUMMARY:Esther Graf
DESCRIPTION:Esther Graf hat sich in den vergangenen zwei Jahren zu einer der außergewöhnlichsten Künstlerinnen im Deutschpop entwickelt. Momentan verzeichnet die Österreicherin mehr als 60 Millionen Audiostreams\, über 6 Millionen Views ihrer Videoclips und über 800k monatliche Spotify-Hörer:innen\, die sie in den letzten Monaten sowohl auf ihrer ersten restlos ausverkauften Headliner-Tournee\, als auch mit ihren Maximum-Energy-Auftritten auf den wichtigsten Sommerfestivals begeistern konnte. \nEine buchstäblich mitreißende Liveatmosphäre\, die Esther Graf authentisch im nach vorne gehenden Power-Sound ihres kommenden Albums eingefangen hat. Auf ihrem noch unbetitelten Debütalbum\, welches Mitte 2024 erscheinen wird\, präsentiert sich Esther Graf so punkig\, wie ihre Fans sie noch nie vorher erlebt haben. Und auch inhaltlich beschäftigt sich die Wahl-Berlinerin zu einem catchy Crossover aus Pop\, Punk und Urban-Einflüssen mit persönlichen Themen\, die man bisher noch nicht von ihr gehört hat.
URL:https://www.helgas-stadtpalast.de/event/esther-graf/
ATTACH;FMTTYPE=image/jpeg:https://www.helgas-stadtpalast.de/wp-content/uploads/2024/09/@mikepalmowski_@awakenprod-1024x1024-1.jpg
END:VEVENT
BEGIN:VEVENT
DTSTART;TZID=Europe/Berlin:20241011T190000
DTEND;TZID=Europe/Berlin:20241011T230000
DTSTAMP:20260423T220758
CREATED:20240908T085932Z
LAST-MODIFIED:20240908T085932Z
UID:42-1728673200-1728687600@www.helgas-stadtpalast.de
SUMMARY:Morlokk Dilemma
DESCRIPTION:“Am Grund”. Album-Tour mit DJ Access\nDer Fußboden klebt\, es riecht nach kaltem Rauch und von den Wänden schälen sich Dekaden an Konzertplakaten. Der Zeremonien-Großmeister höchstpersönlich hatte geladen. Man versammelte sich\, um den Texten und Melodien zu lauschen\, die sie schon ein halbes Leben zu begleiten schienen. Dies war keine Bühnenshow\, sondern eine Audienz. Auf die kollektive Ekstase hin leert sich der Saal\, und als die letzten Besucher*innen glückselig gegangen sind\, bleibt nur der Gastgeber zurück am schummrigen Bartresen.\nJa\, ein langer Weg lag hinter ihm und er erinnert sich: an die endlose Betonwüste seiner Kindheit\, an den ersten Kuss im Treppenhaus\, an die erste Angst\, an Wut und den metallenen Geschmack von Blut im Mund. Ganze Jahrzehnte manifestieren sich vor seinem geistigen Auge\, als er zu erzählen beginnt…\n“Am Grund” ist das lang erwartete neue Werk von Morlockk Dilemma. Ein vertonter Dia-Abend durch die Dekaden. Eine Platte über Freundschaft\, Hoffnung\, Ernüchterung und Trunksucht. Über den Kampf namens Leben und das Abschlachten von Wack-MCs.\nNun kommt die Tournee zum neuen Album. Eine akustische Abenteuerreise zwischen Plattenbau-Romantik und Bahnhofskino. Das brandneue Bühnenprogramm des Ausnahmekünstlers.
URL:https://www.helgas-stadtpalast.de/event/morlokk-dilemma/
ATTACH;FMTTYPE=image/jpeg:https://www.helgas-stadtpalast.de/wp-content/uploads/2024/09/Morlock.jpg
END:VEVENT
BEGIN:VEVENT
DTSTART;TZID=Europe/Berlin:20241018T190000
DTEND;TZID=Europe/Berlin:20241018T230000
DTSTAMP:20260423T220758
CREATED:20240908T090116Z
LAST-MODIFIED:20240908T090116Z
UID:45-1729278000-1729292400@www.helgas-stadtpalast.de
SUMMARY:Rami Hattab
DESCRIPTION:Rami Hattab* ist einer dieser Acts\, die Unerwartetes bieten\, die überraschen. Für Neugierige\, für Entdecker\, für Menschen die kurz aussteigen wollen um neuen Mut zu schöpfen. Wenn Rami Hattab mit seiner Gitarre die Bühne betritt\, entwickelt er eine Kraft\, die absolut ihresgleichen sucht. Wortgewaltig\, poetisch und tief schmettert er seine Songs ohne dabei abgehoben oder unnahbar zu sein. Im Gegenteil: eine gewisse Leichtigkeit und Ironie schwingt mit. \nMit dem Song “Wenn ich tanz” traf Rami Hattab den Nerv der Zeit und die Herzen der Menschen. Ein viraler Hype folgte und die erste Millionen Spotify Plays. Mit “Goldener Handschuh” folgte nicht nur eine Hymne für den Hamburger Kiez\, sondern ein Song der über die Grenzen Duetschlands geliebt wird. In kürzester Zeit konnte dieser alle bisherigen Erfolge weit übertrumpfen und ist noch lange nicht am Ende seiner Reise angekommen. In seiner Poesie erinnert er an Grönemeyer\, in seinem Auftreten an Rag´n´Bone Man (Only Human Afterall)… Am Ende ist Rami Hattab aber nur eins: Unerwartet. \nTickets unter: https://bit.ly/4dXmVFu
URL:https://www.helgas-stadtpalast.de/event/rami-hattab/
ATTACH;FMTTYPE=image/jpeg:https://www.helgas-stadtpalast.de/wp-content/uploads/2024/09/rami.jpeg
END:VEVENT
BEGIN:VEVENT
DTSTART;VALUE=DATE:20241019
DTEND;VALUE=DATE:20241020
DTSTAMP:20260423T220758
CREATED:20240912T085932Z
LAST-MODIFIED:20240912T091615Z
UID:188-1729296000-1729382399@www.helgas-stadtpalast.de
SUMMARY:CNTRL w/ A.D.H.S.
DESCRIPTION:Ob als Produzent oder DJ\, es gibt eine einzige Konstante in A.D.H.S. Arbeit – maximale Power! Als echter Raver steht er nicht nur auf der Bühne\, um andere zu unterhalten\, sondern füllt mit seiner Energie den ganzen Raum. In seinen Sets und Produktionen kombiniert A.D.H.S. musikalische Einflüsse aus dem Rave-Techno der 90er Jahre\, Electronica und Hip-Hop. Seine Produktionsreise begann 2018\, als er mit dem Kollabotrack „Decipher“\, der auf Label Electric Ballroom veröentlicht wurde\, erstmals auf seine Arbeit aufmerksam machte. In 2022 veröffentlichte A.D.H.S. seinen ersten Solo-Track „Zulu“ auf dem Label Terminal M. Der Track wurde von Techno-Koryphäen wie Adam Beyer\, Monika Kruse & Lilly Palmer supportet. Mit „Razor“\, A.D.H.S.‘ Debüt-Track auf Adam Beyers Label Drumcode Records\, beschloss er das Jahr 2022\, landete erneut in den Beatport Techno Charts und gab somit unmissverständlich den Ton an\, für alles was folgte. \nDas Jahr 2024 beginnt mit einer Fortsetzung der Zusammenarbeit von A.D.H.S. & Thomas Schumacher\, die ihren Höhepunkt zuletzt im Remix von Schumachers Klassiker ‚When I Rock‘ fand: Gemeinsam veröffentlichten sie nun eine Kollabo-EP mit zwei Tracks – ‚Mirazh‘ & ‚Aksijan‘. Der erste Track der EP\, ebenfalls ‚Mirazh‘ genannt\, verschmilzt die ungefesselte Energie von Techno mit Psytrance-Elementen und verwebt sie mit Klängen bulgarischer Folklore. Der zweite Track\, ‚Aksijan‘\, besticht durch ansteckende weibliche Rap-Vocals und unerbittlich treibende Rhythmen. Mit einem B2B-Set auf dem renommierten MAYDAY Festival wird die erste Kollaboration der beiden erstmalig gefeiert! \nA.D.H.S.\n \nTobias Sommer\n \nCell1\nhttps://soundcloud.com/selwan-nussair \nA-DJay\nhttps://soundcloud.com/abood-alloush \n 
URL:https://www.helgas-stadtpalast.de/event/cntrl-w-a-d-h-s/
ATTACH;FMTTYPE=image/jpeg:https://www.helgas-stadtpalast.de/wp-content/uploads/2024/09/ADHS.jpg
END:VEVENT
BEGIN:VEVENT
DTSTART;TZID=Europe/Berlin:20241026T190000
DTEND;TZID=Europe/Berlin:20241026T230000
DTSTAMP:20260423T220759
CREATED:20240908T090256Z
LAST-MODIFIED:20240908T090256Z
UID:48-1729969200-1729983600@www.helgas-stadtpalast.de
SUMMARY:Michèl von Wussow
DESCRIPTION:Michèl von Wussow ist aktuell einer der spannendsten Newcomer der deutschen Musikszene. Mit seinem Debütalbum „Angst gegen Vertrauen” (2023) hat er sich bereits einen Namen als authentischer und emotionaler Songwriter gemacht\, der mit seiner rauen Stimme und wilden Indie- Gitarren begeistert. Nach erfolgreichen Supporttourneen für u.a. Sea Girls (UK)\, Pohlmann und Musikgrößen wie Johannes Oerding oder Silbermond ist der gebürtige Hamburger gerade auf seiner ersten Headline-Tournee unterwegs. Diese führt ihn noch bis einschließlich 18. November 2023 durch verschiedene deutsche Städte\, darunter Frankfurt/Main\, Stuttgart\, München\, Berlin und Köln. Die Konzerte in Dortmund\, Hamburg und Hannover sind bereits allesamt ausverkauft. \nGute Nachrichten für all diejenigen\, die keine Karten mehr bekommen konnten oder nach der aktuellen Tournee Lust auf mehr haben: Der norddeutsche Indie-Künstler kündigt neue Termine für den Herbst 2024 an. \nInsgesamt stehen 14 Konzerte auf dem Programm\, bei denen Michèl von Wussow seine gebündelte Liveenergie erneut auf die Bühne bringt. Doch nicht nur das – auch neue Songs sind geplant. Für 2024 ist ein zweites Album angekündigt\, dessen Vorbote die Single „Keine Angst vor der Zukunft ist“. Thematisch knüpft er dabei an sein Debütalbum an: „Keine Angst vor der Zukunft“ spricht von den Herausforderungen\, die die aktuellen gesellschaftlichen Umbrüche und Veränderungen mit sich bringen und vor allem dem damit oft einhergehenden Gefühl der Überforderung. Der Song ist aber dennoch als eine optimistische Motivation für die Zukunft zu verstehen. \n„Viel zu viele Nachrichten machen mich schon länger traurig und fassungslos. Lassen mich hilflos\, wütend und ängstlich zurück. Als Antwort darauf ist ‚Keine Angst vor der Zukunft‘ entstanden – mein positives Mantra und der Versuch gemeinsam mit Menschen\, die mir Kraft geben\, keine Angst vor der Zukunft zu haben.“
URL:https://www.helgas-stadtpalast.de/event/michel-von-wussow/
ATTACH;FMTTYPE=image/jpeg:https://www.helgas-stadtpalast.de/wp-content/uploads/2024/09/Pressefoto-2-c-Nicolai-Ditsch-1024x1024-1.jpg
END:VEVENT
BEGIN:VEVENT
DTSTART;TZID=Europe/Berlin:20241026T230000
DTEND;TZID=Europe/Berlin:20241027T070000
DTSTAMP:20260423T220759
CREATED:20240916T131350Z
LAST-MODIFIED:20240916T131615Z
UID:299-1729983600-1730012400@www.helgas-stadtpalast.de
SUMMARY:Bock auf Bock w/ Fabio Fusco
DESCRIPTION:Bock auf Bock kehrt aus der Sommerpause zurück! Für diesen speziellen Abend haben wir einen alten Bekannten nach Rostock eingeladen. „The God of Prog” – Fabio Fusco – ist bei uns zu Gast! Der Hamburger DJ wird uns mit seinen melodisch hinterlegten Bässen durch eine tolle Nacht begleiten. Gerahmt wird unser Hauptact von Luminatix\, GoaDe\, Ravision und Maté. Das Deko-Team von „Cosmo Colors Deco“ wird die Bühne in ein kleines Wunderland verwandeln. \nFabio Fusco\n \nLuminatix\n \nGoaDe\n \nRavision\n \nMaté
URL:https://www.helgas-stadtpalast.de/event/bock-auf-bock-w-fabio-fusco/
ATTACH;FMTTYPE=image/jpeg:https://www.helgas-stadtpalast.de/wp-content/uploads/2024/09/Fabio.jpg
END:VEVENT
END:VCALENDAR