BEGIN:VCALENDAR
VERSION:2.0
PRODID:-//Helgas Stadtpalast - ECPv6.15.14//NONSGML v1.0//EN
CALSCALE:GREGORIAN
METHOD:PUBLISH
X-WR-CALNAME:Helgas Stadtpalast
X-ORIGINAL-URL:https://www.helgas-stadtpalast.de
X-WR-CALDESC:Veranstaltungen für Helgas Stadtpalast
REFRESH-INTERVAL;VALUE=DURATION:PT1H
X-Robots-Tag:noindex
X-PUBLISHED-TTL:PT1H
BEGIN:VTIMEZONE
TZID:Europe/Berlin
BEGIN:DAYLIGHT
TZOFFSETFROM:+0100
TZOFFSETTO:+0200
TZNAME:CEST
DTSTART:20230326T010000
END:DAYLIGHT
BEGIN:STANDARD
TZOFFSETFROM:+0200
TZOFFSETTO:+0100
TZNAME:CET
DTSTART:20231029T010000
END:STANDARD
BEGIN:DAYLIGHT
TZOFFSETFROM:+0100
TZOFFSETTO:+0200
TZNAME:CEST
DTSTART:20240331T010000
END:DAYLIGHT
BEGIN:STANDARD
TZOFFSETFROM:+0200
TZOFFSETTO:+0100
TZNAME:CET
DTSTART:20241027T010000
END:STANDARD
BEGIN:DAYLIGHT
TZOFFSETFROM:+0100
TZOFFSETTO:+0200
TZNAME:CEST
DTSTART:20250330T010000
END:DAYLIGHT
BEGIN:STANDARD
TZOFFSETFROM:+0200
TZOFFSETTO:+0100
TZNAME:CET
DTSTART:20251026T010000
END:STANDARD
END:VTIMEZONE
BEGIN:VEVENT
DTSTART;TZID=Europe/Berlin:20241206T190000
DTEND;TZID=Europe/Berlin:20241206T230000
DTSTAMP:20260419T155240
CREATED:20240908T091102Z
LAST-MODIFIED:20240918T092753Z
UID:61-1733511600-1733526000@www.helgas-stadtpalast.de
SUMMARY:Freddy Fischer & His Cosmic Rocktime Band
DESCRIPTION:Freddy Fischer mit seiner großartigen Cosmic Rocktime Band! Textlich und musikalisch auf allerhöchsten Niveau\, spielen die vier Vollblutmusiker erdigen\, lebensfrohen Soul in der Tradition von Al Green und lassen dabei ihre Liebe zu den Bee Gees\, Trio\, Udo Lindenberg und auch Manfred Krug in ihre Songs einfließen. \nAber Soul aus Deutschland – geht das denn überhaupt? Haben denn die Deutschen überhaupt den Soul? Oder den Funk? Können sie sich noch an Glitter zum Discosound erinnern? Freddy Fischer schwitzt die Antwort überzeugend auf der Bühne aus und steht mit seiner Cosmic Rocktime Band für die tanzbare Fortentwicklung des Rhythm & Blues ein. Eine erfrischende Alternative zum Sound aus dem Computer. Live Shows von Freddy Fischer hinterlassen eine Republik im Discofieber. Gut informierte Partygänger\, die Fischers Show bereits live sahen\, litten noch Tage danach an unwillkürlichen Zuckungen und unkontrollierbarem Speichelfluss und schrien in ihren schlaflosen Nächten Textfragmente wie „Tanz\, Freddy\, tanz!“ und „Baby oh\, oh\, oh\, du bist hip und ich sowieso“. Fischer gibt auf der Bühne alles\, springt spastische Sprünge ins Publikum wie Rudi Nurejew in seiner Endphase. Und er zeigt\, wie man richtig zu Discomusik tanzt. Es schafft wohl aktuell niemand\, Soul\, Disco und deutsche Texte so gnadenlos zeitlos und mitreißend zu präsentieren wie Freddy Fischer und seine unglaublich gut aussehende Band. Ein absolutes Phänomen!
URL:https://www.helgas-stadtpalast.de/event/freddy-fischer-his-cosmic-rocktime-band/
LOCATION:Helgas Stadtpalalst\, Am Vögenteich 19\, Rostock\, MV\, 18055\, Deutschland
ATTACH;FMTTYPE=image/jpeg:https://www.helgas-stadtpalast.de/wp-content/uploads/2024/09/FreddyFischer_03-1024x6852-1.jpg
END:VEVENT
END:VCALENDAR